BEGIN:VCALENDAR
VERSION:2.0
PRODID:Events Booking
BEGIN:VEVENT
UID:69ec959296211
SUMMARY:1st Fetish Ball
DESCRIPTION:1st Fetish Ball To πρώτο local festival για τους Θ
 εσσαλονικιούς λάτρεις του BDSM είναι γεγο
 νός!
 Event hostesses: Dora Salonica &amp\; Ippoliti (
LOCATION:Πίνδου 1\, Θεσσαλονίκη 546 25\, Ελλάδα
DTSTART:20140906T180000Z
DTEND:20140906T205900Z
DTSTAMP:20231116T105416Z
ORGANIZER:MAILTO:doraq@brainfoodmedia.gr
GEO:40.635399;22.936501
X-APPLE-STRUCTURED-LOCATION;VALUE=URI;X-ADDRESS=Πίνδου 1\, Θεσσα
 λονίκη 546 25\, Ελλάδα;X-APPLE-RADIUS=72;X-TITLE=EightBall Clu
 b:40.635399;22.936501
END:VEVENT
END:VCALENDAR