BEGIN:VCALENDAR
VERSION:2.0
PRODID:Events Booking
BEGIN:VEVENT
UID:69e5aa142c2f8
SUMMARY:DJs Georges L\, Stamatis Grispos & Kostas Georgiopoulos
DESCRIPTION:Την Παρασκευή 14 Φλεβάρη\, οι DJs Georges 
 L\, Σταμάτης Γρίσπος και Κώστας Γεωργιόπο
 υλος αναλαμβάνουν τα decks του Second Skin για ν
 α σας ξεναγήσουν στα σκοτεινά σοκάκια κα
 ι στις κρυφές γωνιές της νύχτας του GOTHAM.
LOCATION:Δαμοκλεους 8\, Αθήνα 118 54\, Ελλάδα
DTSTART:20140214T190000Z
DTEND:20140214T215900Z
DTSTAMP:20231116T105416Z
ORGANIZER:MAILTO:doraq@brainfoodmedia.gr
GEO:37.979401;23.7111
X-APPLE-STRUCTURED-LOCATION;VALUE=URI;X-ADDRESS=Δαμοκλεους 8\, Α
 θήνα 118 54\, Ελλάδα;X-APPLE-RADIUS=72;X-TITLE=Second Skin Club 
 :37.979401;23.7111
END:VEVENT
END:VCALENDAR