BEGIN:VCALENDAR
VERSION:2.0
PRODID:Events Booking
BEGIN:VEVENT
UID:69eae818f28c3
SUMMARY:Dj Set Jazz Royale
DESCRIPTION:Mια διαφορετική πρόταση με αναφορέ
 ς κυρίως στην jazz και σε όλα τα παράγωγά τ
 ης\, αλλά και σε νέους ήχους.
LOCATION:Θεμιστοκλέους 80\, Αθήνα 106 81\, Ελλάδα
DTSTART:20120309T200000Z
DTEND:20120309T215900Z
DTSTAMP:20231116T105416Z
ORGANIZER:MAILTO:doraq@brainfoodmedia.gr
GEO:37.986599;23.7353
X-APPLE-STRUCTURED-LOCATION;VALUE=URI;X-ADDRESS=Θεμιστοκλέους 
 80\, Αθήνα 106 81\, Ελλάδα;X-APPLE-RADIUS=72;X-TITLE=Floral:37.
 986599;23.7353
END:VEVENT
END:VCALENDAR