BEGIN:VCALENDAR
VERSION:2.0
PRODID:Events Booking
BEGIN:VEVENT
UID:69ea322c199b2
SUMMARY:Δημήτρης Μικέλης
DESCRIPTION:Μετά από πολύχρονη παραμονή στην Π
 αλαιστίνη\, ο ουτίστας Δημήτρης Μικέλης 
 επιστρέφοντας στην Ελλάδα επιχειρεί να 
 φέρει μαζί του μία αισθητική στο παίξιμο
  του...
LOCATION:Ζωοδόχου Πηγής 87\, Αθήνα 114 73\, Ελλάδα
DTSTART:20191121T160000Z
DTEND:20191121T190000Z
DTSTAMP:20231116T105416Z
ORGANIZER:MAILTO:doraq@brainfoodmedia.gr
GEO:37.986599;23.7393
X-APPLE-STRUCTURED-LOCATION;VALUE=URI;X-ADDRESS=Ζωοδόχου Πηγής
  87\, Αθήνα 114 73\, Ελλάδα;X-APPLE-RADIUS=72;X-TITLE=Zp 87:37.
 986599;23.7393
END:VEVENT
END:VCALENDAR