BEGIN:VCALENDAR
VERSION:2.0
PRODID:Events Booking
BEGIN:VEVENT
UID:69ed02d833bf0
SUMMARY:Converge
DESCRIPTION:Η Smoke the Fuzz gigs περήφανα παρουσιάζει 
 τους θρυλικούς CONVERGE μετά από απουσία 15 ο
 λόκληρων ετών για μία μοναδική ζωντανή ε
 μφάνιση στην Αθήνα.
 
LOCATION:Λιοσίων 205\, Αθήνα 104 45\, Ελλάδα
DTSTART:20230624T150000Z
DTEND:20230624T175900Z
DTSTAMP:20231116T105416Z
ORGANIZER:MAILTO:doraq@brainfoodmedia.gr
GEO:38.003601;23.721701
X-APPLE-STRUCTURED-LOCATION;VALUE=URI;X-ADDRESS=Λιοσίων 205\, Αθή
 να 104 45\, Ελλάδα;X-APPLE-RADIUS=72;X-TITLE=Gagarin 205:38.003601
 ;23.721701
END:VEVENT
END:VCALENDAR