BEGIN:VCALENDAR
VERSION:2.0
PRODID:Events Booking
BEGIN:VEVENT
UID:69e902fd3a7b3
SUMMARY:Cinema & Sibilima Ensemble
DESCRIPTION:Βραδιές βωβού κινηματογράφου με ζ
 ωντανή μουσική.
 
LOCATION:Φρυνίχου 10\, Αθήνα 105 58
DTSTART:20220214T170000Z
DTEND:20220214T195900Z
DTSTAMP:20231116T105416Z
ORGANIZER:MAILTO:doraq@brainfoodmedia.gr
END:VEVENT
END:VCALENDAR