BEGIN:VCALENDAR
VERSION:2.0
PRODID:Events Booking
BEGIN:VEVENT
UID:69e57de606e35
SUMMARY:Calexico
DESCRIPTION:Οι Calexico δεν ξεχνούν τους πιστούς τ
 ους φίλους. Ξέρουν πόσο μας έλειψαν. Δε χ
 ρειάζονται αφορμές και προσχήματα. Αντα
 ποδίδουν την αγάπη. Και επιστρέφουν.
 
LOCATION:Λάρισα\, Ελλάδα
DTSTART:20220727T140000Z
DTEND:20220727T175900Z
DTSTAMP:20231116T105416Z
ORGANIZER:MAILTO:doraq@brainfoodmedia.gr
GEO:39.601898;22.2861
X-APPLE-STRUCTURED-LOCATION;VALUE=URI;X-ADDRESS=Λάρισα\, Ελλάδα
 ;X-APPLE-RADIUS=72;X-TITLE=Κηποθέατρο Αλκαζάρ:39.601898;2
 2.2861
END:VEVENT
END:VCALENDAR