BEGIN:VCALENDAR
VERSION:2.0
PRODID:Events Booking
BEGIN:VEVENT
UID:69e6b342f16dc
SUMMARY:Balkan Summer Festival
DESCRIPTION:To Faliro Summer Theater διοργανώνει τη μεγαλ
 ύτερη γιορτή βαλκανικής μουσικής\, το Balka
 n Summer Fest. Τρομπέτες\, σαξόφωνα\, κλαρίνα κα
 ι νταούλια βάζουν φωτιά στη σκηνή! Το πάθ
 ος των Βαλκανίων έρχεται και μας ξεσηκών
 ει.
 
LOCATION:Μωραϊτίνη 2\, Παλαιό Φάληρο\, 10445
DTSTART:20230619T153000Z
DTEND:20230619T175900Z
DTSTAMP:20231116T105416Z
ORGANIZER:MAILTO:doraq@brainfoodmedia.gr
END:VEVENT
END:VCALENDAR