BEGIN:VCALENDAR
VERSION:2.0
PRODID:Events Booking
BEGIN:VEVENT
UID:69ebff7249d9c
SUMMARY:Αριστοτέλης Ρήγας
DESCRIPTION:Μετά από sold out παραστάσεις σε όλη τ
 ην Ελλάδα και την Ευρώπη\, φεστιβάλ κωμωδ
 ίας\, παραστάσεις σε παραλίες\, σε οίκους 
 ευγηρίας\, σε μεζεδοπωλεία και μπαρ και μ
 ε ένα διάλειμμα για την πανδημία\, το «Το
 υρλού»\, η δεύτερη σόλο παράσταση stand up come
 dy &amp\; μουσικής κωμωδίας του Αριστοτέλη Ρ
 ήγα\, ήρθε η ώρα να βιντεοσκοπηθεί και να 
 περάσει στην ιστορία!
 
LOCATION:28ης Οκτωβρίου και Κοδριγκτώνος\, Αθή
 να 104 34\, Ελλάδα
DTSTART:20211022T153000Z
DTEND:20211022T175900Z
DTSTAMP:20231116T105416Z
ORGANIZER:MAILTO:doraq@brainfoodmedia.gr
GEO:37.995602;23.732201
X-APPLE-STRUCTURED-LOCATION;VALUE=URI;X-ADDRESS=28ης Οκτωβρίου 
 και Κοδριγκτώνος\, Αθήνα 104 34\, Ελλάδα;X-APPLE
 -RADIUS=72;X-TITLE=Ίλιον Plus:37.995602;23.732201
END:VEVENT
END:VCALENDAR