BEGIN:VCALENDAR
VERSION:2.0
PRODID:Events Booking
BEGIN:VEVENT
UID:69ed5f540b635
SUMMARY:Αναστασία Εδέν\, Άρης Βλάχος
DESCRIPTION:Η μοναδική ερμηνεύτρια Αναστασία 
 Έδεν και ο συνθέτης Άρης Βλάχος παρουσιά
 ζουν την νέα τους μουσική παράσταση βασι
 σμένη στην δισκογραφική τους συνεργασία
  αλλά και στις κοινές τους μνήμες και αγά
 πες από το διεθνές και ελληνικό τραγούδι
 .
 
LOCATION:Τριβωνιανού 17\, Αθήνα 116 36\, Ελλάδα
DTSTART:20230204T183000Z
DTEND:20230204T195900Z
DTSTAMP:20231116T105416Z
ORGANIZER:MAILTO:doraq@brainfoodmedia.gr
GEO:37.965;23.734699
X-APPLE-STRUCTURED-LOCATION;VALUE=URI;X-ADDRESS=Τριβωνιανού 17\,
  Αθήνα 116 36\, Ελλάδα;X-APPLE-RADIUS=72;X-TITLE=Half Note Jazz
  Club:37.965;23.734699
END:VEVENT
END:VCALENDAR