BEGIN:VCALENDAR
VERSION:2.0
PRODID:Events Booking
BEGIN:VEVENT
UID:69e79fe6e2d69
SUMMARY:Anamateur & Pros
DESCRIPTION:Ακολουθώντας την παράδοση του Fats Wa
 ller.
LOCATION:Ακαδημίας 18\, Αθήνα 106 71\, Ελλάδα
DTSTART:20151015T191500Z
DTEND:20151015T191500Z
DTSTAMP:20231116T105416Z
ORGANIZER:MAILTO:doraq@brainfoodmedia.gr
GEO:37.978001;23.7374
X-APPLE-STRUCTURED-LOCATION;VALUE=URI;X-ADDRESS=Ακαδημίας 18\, Α
 θήνα 106 71\, Ελλάδα;X-APPLE-RADIUS=72;X-TITLE=Jazz Point:37.978
 001;23.7374
END:VEVENT
END:VCALENDAR