BEGIN:VCALENDAR
VERSION:2.0
PRODID:Events Booking
BEGIN:VEVENT
UID:69e739ea031bf
SUMMARY:Άγγελος Ανδριανός
DESCRIPTION:Ο Άγγελος Ανδριανός μας προσκαλεί 
 σε μουσικά στέκια σε όλη την Αθήνα\, για ν
 α ταξιδέψουμε με την υπέροχη φωνή του στ
 ο καλό ελληνικό τραγούδι!
 
LOCATION:Μυκηνών & Εδέσσης\, Αθήνα 122 43
DTSTART:20210917T153000Z
DTEND:20210917T175900Z
DTSTAMP:20231116T105416Z
ORGANIZER:MAILTO:doraq@brainfoodmedia.gr
END:VEVENT
END:VCALENDAR