BEGIN:VCALENDAR
VERSION:2.0
PRODID:Events Booking
BEGIN:VEVENT
UID:69e50f6738ade
SUMMARY:6ο Φεστιβάλ Πλατείας: Θάνος Σταυρίδη
 ς & dRom
DESCRIPTION:«Από την Ελλάδα στα Βαλκάνια»
 
LOCATION:Νεάπολη Λασιθίου 284 10
DTSTART:20220806T150000Z
DTEND:20220806T175900Z
DTSTAMP:20231116T105416Z
ORGANIZER:MAILTO:doraq@brainfoodmedia.gr
END:VEVENT
END:VCALENDAR