BEGIN:VCALENDAR
VERSION:2.0
PRODID:Events Booking
BEGIN:VEVENT
UID:69e8138a7bad1
SUMMARY:1st Salonika Hip-Hop Merch Of The Bands Bazaar
DESCRIPTION:#support_your_local_hiphop_artists  
LOCATION:Γρηγορίου Λαμπράκη και 3ης Σεπτεμβρ
 ίου\, Θεσσαλονίκη 546 21\, Ελλάδα
DTSTART:20201108T070000Z
DTEND:20201108T180000Z
DTSTAMP:20231116T105416Z
ORGANIZER:MAILTO:doraq@brainfoodmedia.gr
GEO:40.6259;22.9589
X-APPLE-STRUCTURED-LOCATION;VALUE=URI;X-ADDRESS=Γρηγορίου Λαμπ
 ράκη και 3ης Σεπτεμβρίου\, Θεσσαλονίκη 546 
 21\, Ελλάδα;X-APPLE-RADIUS=72;X-TITLE=Πολυχώρος Πολιτ
 ισμού & Αθλητισμού WE:40.6259;22.9589
END:VEVENT
END:VCALENDAR